BEGIN:VCALENDAR
VERSION:2.0
PRODID:floktu.com
X-WR-TIMEZONE:Australia/Brisbane
X-PUBLISHED-TTL:P1W
BEGIN:VEVENT
UID:FloktuEvent25984@floktu.com
DTSTART;TZID=Australia/Brisbane:20201126T160000
SEQUENCE:0
TRANSP:OPAQUE
DTEND;TZID=Australia/Brisbane:20201126T170000
SUMMARY:CPA Annual General Meeting 2020 (Online with Zoom)
DESCRIPTION:Visit https://cpaagm.floktu.com for more information.
DTSTAMP:20260423T213342Z
END:VEVENT
BEGIN:VTIMEZONE
TZID:Australia/Brisbane
X-LIC-LOCATION:Australia/Brisbane
END:VTIMEZONE
END:VCALENDAR