BEGIN:VCALENDAR
VERSION:2.0
PRODID:floktu.com
X-PUBLISHED-TTL:P1W
BEGIN:VEVENT
UID:FloktuEvent25984@floktu.com
DTSTART:20201126T060000Z
SEQUENCE:0
TRANSP:OPAQUE
DTEND:20201126T070000Z
SUMMARY:CPA Annual General Meeting 2020 (Online with Zoom)
DESCRIPTION:Visit https://cpaagm.floktu.com for more information.
DTSTAMP:20260423T212925Z
END:VEVENT
END:VCALENDAR